BEGIN:VCALENDAR
VERSION:2.0
PRODID:-//70.33.246.150//NONSGML kigkonsult.se iCalcreator 2.20//
CALSCALE:GREGORIAN
METHOD:PUBLISH
X-FROM-URL:http://pccb.org.au
X-WR-TIMEZONE:Australia/Adelaide
BEGIN:VTIMEZONE
TZID:Australia/Adelaide
X-LIC-LOCATION:Australia/Adelaide
BEGIN:STANDARD
DTSTART:20190407T030000
TZOFFSETFROM:+1030
TZOFFSETTO:+0930
TZNAME:ACST
END:STANDARD
BEGIN:DAYLIGHT
DTSTART:20181007T020000
TZOFFSETFROM:+0930
TZOFFSETTO:+1030
TZNAME:ACDT
END:DAYLIGHT
END:VTIMEZONE
BEGIN:VEVENT
UID:ai1ec-335@pccb.org.au
DTSTAMP:20190227T175337Z
CATEGORIES:
CONTACT:
DESCRIPTION:
DTSTART;VALUE=DATE:20160814
DTEND;VALUE=DATE:20160815
GEO:-34.896128;+138.640884
LOCATION:Payneham RSL @ 360 Payneham Rd\, Payneham SA 5070\, Australia
SEQUENCE:0
SUMMARY:Payneham RSL Long Tan Concert
URL:http://pccb.org.au/event/long-tan-concert-2/
END:VEVENT
BEGIN:VEVENT
UID:ai1ec-430@pccb.org.au
DTSTAMP:20190227T175337Z
CATEGORIES:
CONTACT:
DESCRIPTION:Tickets: http://www.trybooking.com.
DTSTART;VALUE=DATE:20170624
DTEND;VALUE=DATE:20170625
GEO:-34.967726;+138.609144
LOCATION:Vogue Theatre @ 25 Belair Rd\, Kingswood SA 5062\, Australia
SEQUENCE:0
SUMMARY:PCCB @ Mitcham Band Festival
URL:http://pccb.org.au/event/pccb-mitcham-band-festival/
X-ALT-DESC;FMTTYPE=text/html:<!DOCTYPE HTML PUBLIC '-//W3C//DTD HTML 3.2//E
 N'>\\n<HTML>\\n<HEAD>\\n<TITLE></TITLE>\\n</HEAD>\\n<BODY><p>Tickets: <a c
 lass='ai1ec-ticket-url-exported' href='http://www.trybooking.com'>http://w
 ww.trybooking.com</a>.</p></BODY></HTML>
X-TICKETS-URL:http://www.trybooking.com
END:VEVENT
BEGIN:VEVENT
UID:ai1ec-454@pccb.org.au
DTSTAMP:20190227T175337Z
CATEGORIES:
CONTACT:
DESCRIPTION:The cabaret-style fundraising afternoon/evening provides an opp
 ortunity for small ensembles (brass and concert) to compete in a friendly 
 atmosphere with a chance of raising money for all bands involved.\n\nThere
  will be several adjudicated sections for 3\, 4\, 5\, and 6+ musicians and
  an audience-voted entertainment section for any number of musicians.\n\nA
 dditional fund-raising events will take place during the event.\n \nMoney 
 raised from the competition will be divided between participating bands.\n
  \nWe look forward to receiving your entries. Please do so before the end 
 of January 2018.
DTSTART;VALUE=DATE:20180317
DTEND;VALUE=DATE:20180318
GEO:-34.723586;+138.682208
LOCATION:Elizabeth RSL @ 70 Midway Rd\, Elizabeth East SA 5112\, Australia
SEQUENCE:0
SUMMARY:Playford City 3+Ensemble Competition
URL:http://pccb.org.au/event/playford-city-3-competition/
X-COST-TYPE:free
X-ALT-DESC;FMTTYPE=text/html:<!DOCTYPE HTML PUBLIC '-//W3C//DTD HTML 3.2//E
 N'>\\n<HTML>\\n<HEAD>\\n<TITLE></TITLE>\\n</HEAD>\\n<BODY><div>The cabaret
 -style fundraising afternoon/evening provides an opportunity for small ens
 embles (brass and concert) to compete in a friendly atmosphere with a chan
 ce of raising money for all bands involved.</div>\n<div></div>\n<div>There
  will be several adjudicated sections for <b>3\, 4\, 5\, and 6+ musicians<
 /b> and an audience-voted <b>entertainment section</b> for any number of m
 usicians.</div>\n<div></div>\n<div>Additional fund-raising events will tak
 e place during the event.</div>\n<div><u> </u></div>\n<div><u>Money raised
  from the competition will be divided between participating bands.</u></di
 v>\n<p> </p>\n<p>We look forward to receiving your entries. Please do so b
 efore the end of January 2018.</p>\n</BODY></HTML>
END:VEVENT
BEGIN:VEVENT
UID:ai1ec-453@pccb.org.au
DTSTAMP:20190227T175337Z
CATEGORIES:
CONTACT:
DESCRIPTION:details to follow
DTSTART;VALUE=DATE:20180425
DTEND;VALUE=DATE:20180426
SEQUENCE:0
SUMMARY:Anzac Day March
URL:http://pccb.org.au/event/anzac-day-march/
X-COST-TYPE:free
X-ALT-DESC;FMTTYPE=text/html:<!DOCTYPE HTML PUBLIC '-//W3C//DTD HTML 3.2//E
 N'>\\n<HTML>\\n<HEAD>\\n<TITLE></TITLE>\\n</HEAD>\\n<BODY><p>details to fo
 llow</p>\n</BODY></HTML>
END:VEVENT
BEGIN:VEVENT
UID:ai1ec-456@pccb.org.au
DTSTAMP:20190227T175337Z
CATEGORIES:
CONTACT:
DESCRIPTION:Details to follow
DTSTART;VALUE=DATE:20180512
DTEND;VALUE=DATE:20180513
GEO:-35.027985;+138.808214
LOCATION:LWE Kramm Memorial Rotunda @ 69A Mount Barker Rd\, Hahndorf SA 524
 5\, Australia
SEQUENCE:0
SUMMARY:Hahndorf Band Festival
URL:http://pccb.org.au/event/hahndorf-band-festival/
X-COST-TYPE:free
X-ALT-DESC;FMTTYPE=text/html:<!DOCTYPE HTML PUBLIC '-//W3C//DTD HTML 3.2//E
 N'>\\n<HTML>\\n<HEAD>\\n<TITLE></TITLE>\\n</HEAD>\\n<BODY><p>Details to fo
 llow</p>\n</BODY></HTML>
END:VEVENT
BEGIN:VEVENT
UID:ai1ec-458@pccb.org.au
DTSTAMP:20190227T175337Z
CATEGORIES:
CONTACT:
DESCRIPTION:Details to follow
DTSTART;VALUE=DATE:20180611
DTEND;VALUE=DATE:20180612
GEO:-34.944842;+138.589128
LOCATION:Royal Adelaide Showgrounds @ Goodwood Rd\, Wayville SA 5034\, Aust
 ralia
SEQUENCE:0
SUMMARY:The Great Southern Slam
URL:http://pccb.org.au/event/the-great-southern-slam/
X-COST-TYPE:free
X-ALT-DESC;FMTTYPE=text/html:<!DOCTYPE HTML PUBLIC '-//W3C//DTD HTML 3.2//E
 N'>\\n<HTML>\\n<HEAD>\\n<TITLE></TITLE>\\n</HEAD>\\n<BODY><p>Details to fo
 llow</p>\n</BODY></HTML>
END:VEVENT
BEGIN:VEVENT
UID:ai1ec-463@pccb.org.au
DTSTAMP:20190227T175337Z
CATEGORIES:
CONTACT:
DESCRIPTION:
DTSTART;VALUE=DATE:20180915
DTEND;VALUE=DATE:20180916
GEO:-34.950224;+138.607863
LOCATION:La Scala @ 169 Unley Rd\, Unley SA 5061\, Australia
SEQUENCE:0
SUMMARY:Band Dinner
URL:http://pccb.org.au/event/band-dinner/
X-COST-TYPE:free
END:VEVENT
BEGIN:VEVENT
UID:ai1ec-464@pccb.org.au
DTSTAMP:20190227T175337Z
CATEGORIES:
CONTACT:
DESCRIPTION:Details to follow
DTSTART;VALUE=DATE:20181006
DTEND;VALUE=DATE:20181007
GEO:-34.922136;+138.63276
LOCATION:Hungarian Club @ 82 Osmond Terrace\, Norwood SA 5067\, Australia
SEQUENCE:0
SUMMARY:Annual Concert
URL:http://pccb.org.au/event/annual-concert/
X-COST-TYPE:free
X-ALT-DESC;FMTTYPE=text/html:<!DOCTYPE HTML PUBLIC '-//W3C//DTD HTML 3.2//E
 N'>\\n<HTML>\\n<HEAD>\\n<TITLE></TITLE>\\n</HEAD>\\n<BODY><p>Details to fo
 llow</p>\n</BODY></HTML>
END:VEVENT
BEGIN:VEVENT
UID:ai1ec-334@pccb.org.au
DTSTAMP:20190227T175337Z
CATEGORIES:
CONTACT:
DESCRIPTION:
DTSTART;TZID=Australia/Adelaide:20160605T140000
DTEND;TZID=Australia/Adelaide:20160605T160000
LOCATION:Payneham Youth Centre @ Payneham Youth Centre\, Turner Street\, Fe
 lixstow
SEQUENCE:0
SUMMARY:PCCB Community Concert
URL:http://pccb.org.au/event/pccb-community-concert/
END:VEVENT
BEGIN:VEVENT
UID:ai1ec-365@pccb.org.au
DTSTAMP:20190227T175337Z
CATEGORIES:
CONTACT:
DESCRIPTION:
DTSTART;TZID=Australia/Adelaide:20160807T110000
DTEND;TZID=Australia/Adelaide:20160807T113000
GEO:-35.256151;+138.893412
LOCATION:Strathalbyn Town Hall @ High St\, Strathalbyn SA 5255\, Australia
SEQUENCE:0
SUMMARY:Strathalbyn Band Festival
URL:http://pccb.org.au/event/strathalbyn-band-festival-3/
X-COST:Tickets available at door
END:VEVENT
BEGIN:VEVENT
UID:ai1ec-366@pccb.org.au
DTSTAMP:20190227T175337Z
CATEGORIES:
CONTACT:
DESCRIPTION:Tickets: https://goo.gl/P1iHHg.
DTSTART;TZID=Australia/Adelaide:20160820T193000
DTEND;TZID=Australia/Adelaide:20160820T230000
GEO:-34.920923;+138.63621
LOCATION:Norwood Concert Hall @ 175 The Parade\, Norwood SA 5067\, Australi
 a
SEQUENCE:0
SUMMARY:PCCB 50th Anniversary Concert ’50 Years in Concert’
URL:http://pccb.org.au/event/pccb-50th-anniversary-concert-50-years-in-conc
 ert/
X-ALT-DESC;FMTTYPE=text/html:<!DOCTYPE HTML PUBLIC '-//W3C//DTD HTML 3.2//E
 N'>\\n<HTML>\\n<HEAD>\\n<TITLE></TITLE>\\n</HEAD>\\n<BODY><p>Tickets: <a c
 lass='ai1ec-ticket-url-exported' href='https://goo.gl/P1iHHg'>https://goo.
 gl/P1iHHg</a>.</p></BODY></HTML>
X-COST:$20 (Children under 10 free)
X-TICKETS-URL:https://goo.gl/P1iHHg
END:VEVENT
BEGIN:VEVENT
UID:ai1ec-367@pccb.org.au
DTSTAMP:20190227T175337Z
CATEGORIES:
CONTACT:
DESCRIPTION:
DTSTART;TZID=Australia/Adelaide:20160925T140000
DTEND;TZID=Australia/Adelaide:20160925T160000
GEO:-34.891516;+138.642145
LOCATION:Payneham Youth Centre @ Turner St\, Felixstow SA 5070\, Australia
SEQUENCE:0
SUMMARY:Community Concert
URL:http://pccb.org.au/event/community-concert-5/
X-COST:Gold coin donation
END:VEVENT
BEGIN:VEVENT
UID:ai1ec-368@pccb.org.au
DTSTAMP:20190227T175337Z
CATEGORIES:
CONTACT:
DESCRIPTION:
DTSTART;TZID=Australia/Adelaide:20161126T100000
DTEND;TZID=Australia/Adelaide:20161126T120000
GEO:-34.92127;+138.632689
LOCATION:The Parade\, Norwood SA 5067\, Australia
SEQUENCE:0
SUMMARY:Norwood Christmas Pageant
URL:http://pccb.org.au/event/norwood-christmas-pageant-3/
END:VEVENT
BEGIN:VEVENT
UID:ai1ec-394@pccb.org.au
DTSTAMP:20190227T175337Z
CATEGORIES:
CONTACT:
DESCRIPTION:Raffle and light refreshments available for purchase. Special v
 isit from Father Christmas.
DTSTART;TZID=Australia/Adelaide:20161204T140000
DTEND;TZID=Australia/Adelaide:20161204T163000
LOCATION:Payneham Youth Centre @ Payneham Youth Centre\, Turner Street Feli
 xstow
SEQUENCE:0
SUMMARY:PCCB Christmas Concert
URL:http://pccb.org.au/event/pccb-christmas-concert/
X-ALT-DESC;FMTTYPE=text/html:<!DOCTYPE HTML PUBLIC '-//W3C//DTD HTML 3.2//E
 N'>\\n<HTML>\\n<HEAD>\\n<TITLE></TITLE>\\n</HEAD>\\n<BODY><p>Raffle and li
 ght refreshments available for purchase. Special visit from Father Christm
 as.</p>\n</BODY></HTML>
X-COST:Gold coin
END:VEVENT
BEGIN:VEVENT
UID:ai1ec-437@pccb.org.au
DTSTAMP:20190227T175337Z
CATEGORIES:
CONTACT:
DESCRIPTION:Please join Unley Concert Band and Kensington & Norwood Brass a
 t St Peters Girls’ Arts Centre as they present their programs for the upco
 ming National Championships in Launceston. In addition to each band’s own 
 choice\, hymn and march selections\, the concert will feature the test wor
 ks for both A grade Brass and Concert: Harrison’s Dream by Peter Graham an
 d Of Sailors and Whales by W. Francis McBeth.\nWith special guests Payneha
 m City Concert Band presenting an entertainment program\, it looks to be a
  great afternoon of wonderful music!\nAfternoon tea will be available and 
 raffle prizes to be won!\nTickets $20\, concession $15\, with children und
 er 12 free.\nhttps://www.facebook.com/events/1278777618879119/
DTSTART;TZID=Australia/Adelaide:20170401T140000
DTEND;TZID=Australia/Adelaide:20170401T170000
GEO:-34.929754;+138.667806
LOCATION:St Peter's Collegiate Girls' School @ Stonyfell Rd\, Stonyfell SA 
 5066\, Australia
SEQUENCE:0
SUMMARY:Pre-Nationals Concert 2017
URL:http://pccb.org.au/event/pre-nationals-concert-2017/
X-COST-TYPE:external
X-ALT-DESC;FMTTYPE=text/html:<!DOCTYPE HTML PUBLIC '-//W3C//DTD HTML 3.2//E
 N'>\\n<HTML>\\n<HEAD>\\n<TITLE></TITLE>\\n</HEAD>\\n<BODY><p>Please join U
 nley Concert Band and Kensington & Norwood Brass at St Peters Girls’ Arts 
 Centre as they present their programs for the upcoming National Championsh
 ips in Launceston. In addition to each band’s own choice\, hymn and march 
 selections\, the concert will feature the test works for both A grade Bras
 s and Concert: Harrison’s Dream by Peter Graham and Of Sailors and Whales 
 by W. Francis McBeth.</p>\n<p>With special guests Payneham City Concert Ba
 nd presenting an entertainment program\, it looks to be a great afternoon 
 of wonderful music!</p>\n<p>Afternoon tea will be available and raffle pri
 zes to be won!</p>\n<p>Tickets $20\, concession $15\, with children under 
 12 free.</p>\n<p><a href='https://www.facebook.com/events/1278777618879119
 /'>https://www.facebook.com/events/1278777618879119/</a></p>\n</BODY></HTM
 L>
END:VEVENT
BEGIN:VEVENT
UID:ai1ec-429@pccb.org.au
DTSTAMP:20190227T175337Z
CATEGORIES:
CONTACT:
DESCRIPTION:2017 ANZAC Day
DTSTART;TZID=Australia/Adelaide:20170425T140000
DTEND;TZID=Australia/Adelaide:20170425T160000
GEO:-34.891446;+138.64338
LOCATION:Payneham Youth Centre @ lot\, LOT 18 Turner St\, Felixstow SA 5070
 \, Australia
SEQUENCE:0
SUMMARY:Anzac Day Community Concert
URL:http://pccb.org.au/event/anzac-day-community-concert/
X-COST-TYPE:free
X-ALT-DESC;FMTTYPE=text/html:<!DOCTYPE HTML PUBLIC '-//W3C//DTD HTML 3.2//E
 N'>\\n<HTML>\\n<HEAD>\\n<TITLE></TITLE>\\n</HEAD>\\n<BODY><p><embed src='h
 ttp://pccb.org.au/wp-content/uploads/2017/01/2017-ANZAC-Day.pdf' style=' h
 eight:480px\; width:100%\;'></embed><a href='http://pccb.org.au/wp-content
 /uploads/2017/01/2017-ANZAC-Day.pdf'>2017 ANZAC Day</a></p>\n</BODY></HTML
 >
END:VEVENT
BEGIN:VEVENT
UID:ai1ec-435@pccb.org.au
DTSTAMP:20190227T175337Z
CATEGORIES:
CONTACT:
DESCRIPTION:
DTSTART;TZID=Australia/Adelaide:20170528T140000
DTEND;TZID=Australia/Adelaide:20170528T160000
GEO:-34.906301;+138.646266
LOCATION:Payneham Senior Citizens Club @ 54 Coorara Ave\, Payneham South SA
  5070\, Australia
SEQUENCE:0
SUMMARY:Senior Citizens & Friends of the Band Concert
URL:http://pccb.org.au/event/senior-citizens-friends-of-the-band-concert/
END:VEVENT
BEGIN:VEVENT
UID:ai1ec-432@pccb.org.au
DTSTAMP:20190227T175337Z
CATEGORIES:
CONTACT:
DESCRIPTION:2017 Reflections Flyer\nTickets: https://www.stickytickets.com.
 au/55394/pccb_evening_of_reflections.aspx.
DTSTART;TZID=Australia/Adelaide:20170915T193000
DTEND;TZID=Australia/Adelaide:20170915T213000
GEO:-34.914018;+138.666842
LOCATION:St Joseph's Catholic Church @ 484 Magill Rd\, Kensington Gardens S
 A 5068\, Australia
SEQUENCE:0
SUMMARY:Reflections Concert
URL:http://pccb.org.au/event/reflections-concert/
X-COST-TYPE:external
X-ALT-DESC;FMTTYPE=text/html:<!DOCTYPE HTML PUBLIC '-//W3C//DTD HTML 3.2//E
 N'>\\n<HTML>\\n<HEAD>\\n<TITLE></TITLE>\\n</HEAD>\\n<BODY><p><embed src='h
 ttp://pccb.org.au/wp-content/uploads/2017/01/2017-Reflections.pdf' style='
  height:480px\; width:100%\;'></embed><a href='http://pccb.org.au/wp-conte
 nt/uploads/2017/01/2017-Reflections.pdf'>2017 Reflections Flyer</a></p>\n<
 p>Tickets: <a class='ai1ec-ticket-url-exported' href='https://www.stickyti
 ckets.com.au/55394/pccb_evening_of_reflections.aspx'>https://www.stickytic
 kets.com.au/55394/pccb_evening_of_reflections.aspx</a>.</p></BODY></HTML>
X-COST:$15.00 + booking fee
X-TICKETS-URL:https://www.stickytickets.com.au/55394/pccb_evening_of_reflec
 tions.aspx
END:VEVENT
BEGIN:VEVENT
UID:ai1ec-433@pccb.org.au
DTSTAMP:20190227T175337Z
CATEGORIES:
CONTACT:
DESCRIPTION:The Campbelltown Brass Band are joining us for this community c
 oncert.
DTSTART;TZID=Australia/Adelaide:20171015T140000
DTEND;TZID=Australia/Adelaide:20171015T160000
GEO:-34.891446;+138.64338
LOCATION:Payneham Youth Centre @ lot\, LOT 18 Turner St\, Felixstow SA 5070
 \, Australia
SEQUENCE:0
SUMMARY:Community Concert
URL:http://pccb.org.au/event/community-concert/
X-COST-TYPE:free
X-ALT-DESC;FMTTYPE=text/html:<!DOCTYPE HTML PUBLIC '-//W3C//DTD HTML 3.2//E
 N'>\\n<HTML>\\n<HEAD>\\n<TITLE></TITLE>\\n</HEAD>\\n<BODY><p>The Campbellt
 own Brass Band are joining us for this community concert.</p>\n</BODY></HT
 ML>
END:VEVENT
BEGIN:VEVENT
UID:ai1ec-434@pccb.org.au
DTSTAMP:20190227T175337Z
CATEGORIES:
CONTACT:
DESCRIPTION:
DTSTART;TZID=Australia/Adelaide:20171203T140000
DTEND;TZID=Australia/Adelaide:20171203T160000
GEO:-34.891446;+138.64338
LOCATION:Payneham Youth Centre @ lot\, LOT 18 Turner St\, Felixstow SA 5070
 \, Australia
SEQUENCE:0
SUMMARY:Payneham Carols
URL:http://pccb.org.au/event/payneham-carols/
END:VEVENT
BEGIN:VEVENT
UID:ai1ec-449@pccb.org.au
DTSTAMP:20190227T175337Z
CATEGORIES:
CONTACT:
DESCRIPTION:
DTSTART;TZID=Australia/Adelaide:20180130T193000
DTEND;TZID=Australia/Adelaide:20180130T213000
GEO:-34.906294;+138.646486
LOCATION:Payneham Senior Citizens @ 54 Coorara Ave\, Payneham South SA 5070
 \, Australia
SEQUENCE:0
SUMMARY:Return to rehearsals
URL:http://pccb.org.au/event/return-to-rehearsals/
X-COST-TYPE:free
END:VEVENT
BEGIN:VEVENT
UID:ai1ec-451@pccb.org.au
DTSTAMP:20190227T175337Z
CATEGORIES:
CONTACT:
DESCRIPTION:
DTSTART;TZID=Australia/Adelaide:20180325T140000
DTEND;TZID=Australia/Adelaide:20180325T160000
GEO:-34.906294;+138.646486
LOCATION:Payneham Senior Citizens @ 54 Coorara Ave\, Payneham South SA 5070
 \, Australia
SEQUENCE:0
SUMMARY:Senior Citizens and Friends of the Band
URL:http://pccb.org.au/event/senior-citizens-and-friends-of-the-band/
X-COST-TYPE:free
END:VEVENT
BEGIN:VEVENT
UID:ai1ec-452@pccb.org.au
DTSTAMP:20190227T175337Z
CATEGORIES:
CONTACT:
DESCRIPTION:
DTSTART;TZID=Australia/Adelaide:20180425T140000
DTEND;TZID=Australia/Adelaide:20180425T160000
GEO:-34.891516;+138.642145
LOCATION:Payneham Youth Centre @ Turner St\, Felixstow SA 5070\, Australia
SEQUENCE:0
SUMMARY:Anzac Day Community Concert
URL:http://pccb.org.au/event/anzac-day-community-concert-2/
X-COST-TYPE:free
END:VEVENT
BEGIN:VEVENT
UID:ai1ec-457@pccb.org.au
DTSTAMP:20190227T175337Z
CATEGORIES:
CONTACT:
DESCRIPTION:
DTSTART;TZID=Australia/Adelaide:20180604T200000
DTEND;TZID=Australia/Adelaide:20180604T220000
GEO:-34.91178;+138.51415
LOCATION:Adelaide Music Club @ 443 Tapleys Hill Rd\, Fulham Gardens SA 5024
 \, Australia
SEQUENCE:0
SUMMARY:Adelaide Music Club
URL:http://pccb.org.au/event/adelaide-music-club/
X-COST-TYPE:free
END:VEVENT
BEGIN:VEVENT
UID:ai1ec-459@pccb.org.au
DTSTAMP:20190227T175337Z
CATEGORIES:
CONTACT:
DESCRIPTION:Details to follow\nTickets: http://1. www.trybooking.com.
DTSTART;TZID=Australia/Adelaide:20180623T175500
DTEND;TZID=Australia/Adelaide:20180623T184000
GEO:-34.967645;+138.60911
LOCATION:Vogue Theatre @ 25 Belair Rd\, Kingswood SA 5062\, Australia
SEQUENCE:0
SUMMARY:Mitcham Band Festival
URL:http://pccb.org.au/event/mitcham-band-festival/
X-COST-TYPE:external
X-ALT-DESC;FMTTYPE=text/html:<!DOCTYPE HTML PUBLIC '-//W3C//DTD HTML 3.2//E
 N'>\\n<HTML>\\n<HEAD>\\n<TITLE></TITLE>\\n</HEAD>\\n<BODY><p>Details to fo
 llow</p>\n<p>Tickets: <a class='ai1ec-ticket-url-exported' href='http://1.
  www.trybooking.com'>http://1. www.trybooking.com</a>.</p></BODY></HTML>
X-TICKETS-URL:http://1. www.trybooking.com
END:VEVENT
BEGIN:VEVENT
UID:ai1ec-462@pccb.org.au
DTSTAMP:20190227T175337Z
CATEGORIES:
CONTACT:
DESCRIPTION:
DTSTART;TZID=Australia/Adelaide:20180729T140000
DTEND;TZID=Australia/Adelaide:20180729T160000
GEO:-34.891516;+138.642145
LOCATION:Payneham Youth Centre @ Turner St\, Felixstow SA 5070\, Australia
SEQUENCE:0
SUMMARY:Community Concert
URL:http://pccb.org.au/event/community-concert-2/
X-COST-TYPE:free
END:VEVENT
BEGIN:VEVENT
UID:ai1ec-460@pccb.org.au
DTSTAMP:20190227T175337Z
CATEGORIES:
CONTACT:
DESCRIPTION:
DTSTART;TZID=Australia/Adelaide:20180731T203000
DTEND;TZID=Australia/Adelaide:20180731T213000
GEO:-34.906294;+138.646486
LOCATION:Payneham Senior Citizens Club @ 54 Coorara Ave\, Payneham South SA
  5070\, Australia
SEQUENCE:0
SUMMARY:Annual General Meeting
URL:http://pccb.org.au/event/annual-general-meeting/
X-COST-TYPE:free
END:VEVENT
BEGIN:VEVENT
UID:ai1ec-477@pccb.org.au
DTSTAMP:20190227T175337Z
CATEGORIES:
CONTACT:
DESCRIPTION:
DTSTART;TZID=Australia/Adelaide:20180812T130000
DTEND;TZID=Australia/Adelaide:20180812T150000
GEO:-34.895797;+138.641042
LOCATION:Payneham RSL @ 360 Payneham Rd\, Payneham SA 5070\, Australia
SEQUENCE:0
SUMMARY:Vietnam Veterans’ Day
URL:http://pccb.org.au/event/vietnam-veterans-day/
X-COST-TYPE:free
END:VEVENT
BEGIN:VEVENT
UID:ai1ec-466@pccb.org.au
DTSTAMP:20190227T175337Z
CATEGORIES:
CONTACT:
DESCRIPTION:
DTSTART;TZID=Australia/Adelaide:20181124T093000
DTEND;TZID=Australia/Adelaide:20181124T113000
GEO:-34.921265;+138.63285
LOCATION:The Parade @ The Parade\, Norwood SA 5067\, Australia
SEQUENCE:0
SUMMARY:Norwood Christmas Pageant
URL:http://pccb.org.au/event/norwood-christmas-pageant/
X-COST-TYPE:free
END:VEVENT
BEGIN:VEVENT
UID:ai1ec-467@pccb.org.au
DTSTAMP:20190227T175337Z
CATEGORIES:
CONTACT:
DESCRIPTION:
DTSTART;TZID=Australia/Adelaide:20181202T140000
DTEND;TZID=Australia/Adelaide:20181202T160000
GEO:-34.891516;+138.642145
LOCATION:Payneham Youth Centre @ Turner St\, Felixstow SA 5070\, Australia
SEQUENCE:0
SUMMARY:Payneham Carols
URL:http://pccb.org.au/event/payneham-carols-2/
X-COST-TYPE:free
END:VEVENT
BEGIN:VEVENT
UID:ai1ec-468@pccb.org.au
DTSTAMP:20190227T175337Z
CATEGORIES:
CONTACT:
DESCRIPTION:
DTSTART;TZID=Australia/Adelaide:20181211T203000
DTEND;TZID=Australia/Adelaide:20181211T220000
GEO:-34.906294;+138.646486
LOCATION:Payneham Senior Citizens Club @ 54 Coorara Ave\, Payneham South SA
  5070\, Australia
SEQUENCE:0
SUMMARY:Christmas Breakup
URL:http://pccb.org.au/event/christmas-breakup/
X-COST-TYPE:free
END:VEVENT
END:VCALENDAR
