BEGIN:VCALENDAR
VERSION:2.0
PRODID:-//70.33.246.150//NONSGML kigkonsult.se iCalcreator 2.20//
CALSCALE:GREGORIAN
METHOD:PUBLISH
X-WR-CALNAME:Payneham City Concert Band
X-WR-CALDESC:
X-FROM-URL:http://pccb.org.au
X-WR-TIMEZONE:Australia/Adelaide
BEGIN:VTIMEZONE
TZID:Australia/Adelaide
X-LIC-LOCATION:Australia/Adelaide
BEGIN:STANDARD
DTSTART:20190407T030000
TZOFFSETFROM:+1030
TZOFFSETTO:+0930
TZNAME:ACST
END:STANDARD
BEGIN:DAYLIGHT
DTSTART:20181007T020000
TZOFFSETFROM:+0930
TZOFFSETTO:+1030
TZNAME:ACDT
END:DAYLIGHT
END:VTIMEZONE
BEGIN:VEVENT
UID:ai1ec-432@pccb.org.au
DTSTAMP:20190227T180555Z
CATEGORIES:
CONTACT:
DESCRIPTION:2017 Reflections Flyer\nTickets: https://www.stickytickets.com.
 au/55394/pccb_evening_of_reflections.aspx.
DTSTART;TZID=Australia/Adelaide:20170915T193000
DTEND;TZID=Australia/Adelaide:20170915T213000
GEO:-34.914018;+138.666842
LOCATION:St Joseph's Catholic Church @ 484 Magill Rd\, Kensington Gardens S
 A 5068\, Australia
SEQUENCE:0
SUMMARY:Reflections Concert
URL:http://pccb.org.au/event/reflections-concert/
X-COST-TYPE:external
X-ALT-DESC;FMTTYPE=text/html:<!DOCTYPE HTML PUBLIC '-//W3C//DTD HTML 3.2//E
 N'>\\n<HTML>\\n<HEAD>\\n<TITLE></TITLE>\\n</HEAD>\\n<BODY><p><embed src='h
 ttp://pccb.org.au/wp-content/uploads/2017/01/2017-Reflections.pdf' style='
  height:480px\; width:100%\;'></embed><a href='http://pccb.org.au/wp-conte
 nt/uploads/2017/01/2017-Reflections.pdf'>2017 Reflections Flyer</a></p>\n<
 p>Tickets: <a class='ai1ec-ticket-url-exported' href='https://www.stickyti
 ckets.com.au/55394/pccb_evening_of_reflections.aspx'>https://www.stickytic
 kets.com.au/55394/pccb_evening_of_reflections.aspx</a>.</p></BODY></HTML>
X-COST:$15.00 + booking fee
X-TICKETS-URL:https://www.stickytickets.com.au/55394/pccb_evening_of_reflec
 tions.aspx
END:VEVENT
END:VCALENDAR
