BEGIN:VCALENDAR
VERSION:2.0
PRODID:-//70.33.246.150//NONSGML kigkonsult.se iCalcreator 2.20//
CALSCALE:GREGORIAN
METHOD:PUBLISH
X-WR-CALNAME:Payneham City Concert Band
X-WR-CALDESC:
X-FROM-URL:http://pccb.org.au
X-WR-TIMEZONE:Australia/Adelaide
BEGIN:VTIMEZONE
TZID:Australia/Adelaide
X-LIC-LOCATION:Australia/Adelaide
BEGIN:STANDARD
DTSTART:20190407T030000
TZOFFSETFROM:+1030
TZOFFSETTO:+0930
TZNAME:ACST
END:STANDARD
BEGIN:DAYLIGHT
DTSTART:20181007T020000
TZOFFSETFROM:+0930
TZOFFSETTO:+1030
TZNAME:ACDT
END:DAYLIGHT
END:VTIMEZONE
BEGIN:VEVENT
UID:ai1ec-366@pccb.org.au
DTSTAMP:20190227T180322Z
CATEGORIES:
CONTACT:
DESCRIPTION:<p>Tickets: <a class='ai1ec-ticket-url-exported' href='https://
 goo.gl/P1iHHg'>https://goo.gl/P1iHHg</a>.</p>
DTSTART;TZID=Australia/Adelaide:20160820T193000
DTEND;TZID=Australia/Adelaide:20160820T230000
GEO:-34.920923;+138.63621
LOCATION:Norwood Concert Hall @ 175 The Parade\, Norwood SA 5067\, Australi
 a
SEQUENCE:0
SUMMARY:PCCB 50th Anniversary Concert ’50 Years in Concert’
URL:http://pccb.org.au/event/pccb-50th-anniversary-concert-50-years-in-conc
 ert/
X-COST:$20 (Children under 10 free)
X-TICKETS-URL:https://goo.gl/P1iHHg
END:VEVENT
END:VCALENDAR
